BEGIN:VCALENDAR
VERSION:2.0
PRODID:-//SCMS - ECPv6.15.20//NONSGML v1.0//EN
CALSCALE:GREGORIAN
METHOD:PUBLISH
X-WR-CALNAME:SCMS
X-ORIGINAL-URL:https://www.scmsfungi.org
X-WR-CALDESC:Events for SCMS
REFRESH-INTERVAL;VALUE=DURATION:PT1H
X-Robots-Tag:noindex
X-PUBLISHED-TTL:PT1H
BEGIN:VTIMEZONE
TZID:America/Vancouver
BEGIN:DAYLIGHT
TZOFFSETFROM:-0800
TZOFFSETTO:-0700
TZNAME:PDT
DTSTART:20250309T100000
END:DAYLIGHT
BEGIN:STANDARD
TZOFFSETFROM:-0700
TZOFFSETTO:-0800
TZNAME:PST
DTSTART:20251102T090000
END:STANDARD
BEGIN:DAYLIGHT
TZOFFSETFROM:-0800
TZOFFSETTO:-0700
TZNAME:PDT
DTSTART:20260308T100000
END:DAYLIGHT
BEGIN:STANDARD
TZOFFSETFROM:-0700
TZOFFSETTO:-0800
TZNAME:PST
DTSTART:20261101T090000
END:STANDARD
BEGIN:DAYLIGHT
TZOFFSETFROM:-0800
TZOFFSETTO:-0700
TZNAME:PDT
DTSTART:20270314T100000
END:DAYLIGHT
BEGIN:STANDARD
TZOFFSETFROM:-0700
TZOFFSETTO:-0800
TZNAME:PST
DTSTART:20271107T090000
END:STANDARD
END:VTIMEZONE
BEGIN:VEVENT
DTSTART;TZID=America/Vancouver:20260425T100000
DTEND;TZID=America/Vancouver:20260425T130000
DTSTAMP:20260423T053218
CREATED:20210913T191408Z
LAST-MODIFIED:20260421T193218Z
UID:2285-1777111200-1777122000@www.scmsfungi.org
SUMMARY:Foray - April 25th\, 2026
DESCRIPTION:Let’s hunt mushrooms together! It’s time to swap the sidewalk for the soil and find some real forest gold. Mushroom hunting isn’t just about the food—it’s about the thrill of the find and the memories made with friends. Leave the screens behind and connect with nature and each other in the quiet woods. \nDetails are in the Members Only section under Forays & Member Events 2026.
URL:https://www.scmsfungi.org/?tribe_events=foray-october-23-2021
LOCATION:Location disclosed to members only\, WA\, United States
END:VEVENT
BEGIN:VEVENT
DTSTART;TZID=America/Vancouver:20260513T190000
DTEND;TZID=America/Vancouver:20260513T203000
DTSTAMP:20260423T053218
CREATED:20260408T200239Z
LAST-MODIFIED:20260421T193549Z
UID:2926-1778698800-1778704200@www.scmsfungi.org
SUMMARY:Plant Sale Fundraiser\, Wed\, May 13th
DESCRIPTION:Support SCMS: Bring a Plant\, Buy a Plant! \nJoin us for our upcoming fundraiser! Whether you have an extra tray of tomato starts\, a divided perennial\, or a “pup” from your favorite houseplant\, your donations help keep our society thriving. \nHow It Works\n\n\nDonate: Bring healthy\, pest-free plants to the event. This includes indoor houseplants\, outdoor starts\, garden divisions\, or even fruit trees! \n\n\nBrowse: Check out the variety of greenery brought in by fellow members. \n\n\nBuy/Auction: Depending on the rarity of the plant\, we will either have a set-price sale or a lively “Quick Auction” for the real show-stoppers. \n\n\nWhat to Bring\n\n\nVegetable Starts: Tomatoes\, peppers\, and herbs. \n\n\nHouseplants: Pothos\, succulents\, or rare tropicals. \n\n\nGarden Gems: Divided hostas\, ferns\, or flowering perennials. \n\n\nFungal Extras: If you have mushroom grow kits or inoculated logs\, bring those too! \n\n\n\nPro Tip: Please label your plants with their name and light/water requirements if you know them. It helps our new “plant parents” succeed!
URL:https://www.scmsfungi.org/?tribe_events=plant-sale-wednesday-may-13th
LOCATION:Everett Firefighter’s Hall\, 2411 Hewitt Ave\, Everett\, WA\, 98201\, United States
END:VEVENT
BEGIN:VEVENT
DTSTART;TZID=America/Vancouver:20260610T190000
DTEND;TZID=America/Vancouver:20260610T203000
DTSTAMP:20260423T053218
CREATED:20250514T191524Z
LAST-MODIFIED:20260421T191717Z
UID:2806-1781118000-1781123400@www.scmsfungi.org
SUMMARY:Meeting June 10th\, 2026
DESCRIPTION:Check back for what the topic will be and who will be presenting it. \nMeetings are free and open to the public.
URL:https://www.scmsfungi.org/?tribe_events=june-11th-2025-meeting
LOCATION:Everett Firefighter’s Hall\, 2411 Hewitt Ave\, Everett\, WA\, 98201\, United States
END:VEVENT
BEGIN:VEVENT
DTSTART;TZID=America/Vancouver:20261018T100000
DTEND;TZID=America/Vancouver:20261018T160000
DTSTAMP:20260423T053218
CREATED:20240612T182300Z
LAST-MODIFIED:20260408T200130Z
UID:2682-1792317600-1792339200@www.scmsfungi.org
SUMMARY:Wild Mushroom Show
DESCRIPTION:Come join us at Forest Park\, Floral Hall for a fun-filled day exploring the fascinating world of mushrooms. Whether you’re a seasoned forager or just curious about these unique fungi\, this event is perfect for all levels of mushroom enthusiasts. \nDiscover a variety of wild mushrooms on display\, learn about their different species\, and even take a mushroom identification class (11am or 1pm). Don’t miss out on the opportunity to chat with experts and fellow mushroom lovers to expand your knowledge. Bring your mushrooms to be ID’ed. Explore the mushroom dye display. Learn about how to get mushroom spores and how those help ID the mushrooms. Mushroom items will be for sale including books\, stickers\, fresh mushrooms\, mushroom coffee and more. Get some raffle tickets for fun prizes. There is even a kids craft table. Fun for the whole family. \nGet ready for a day of excitement\, education\, and maybe even a few surprises. Mark your calendars for the Wild Mushroom Show at Forest Park\, Floral Hall – it’s a family friendly event you won’t want to miss! \nNo fee to enter\, donations accepted. \n 
URL:https://www.scmsfungi.org/?tribe_events=wild-mushroom-show
LOCATION:Floral Hall\, 802 E. Mukilteo Blvd\, Everett\, WA\, 98203\, United States
END:VEVENT
END:VCALENDAR